BEGIN:VCALENDAR
VERSION:2.0
PRODID:-//eventon.com NONSGML v1.0//EN
BEGIN:VEVENT
UID:69e64bfe978a7
DTSTAMP:20260420T165334
DTSTART:20180425
DTEND:20180427
TZID:UTC
LOCATION:
SUMMARY:Cyber Sécurité Forum
DESCRIPTION: Cyber Sécurité Forum Cybersecurity-forum.ma\nhttp://apebi.org.ma/events/cyber-securite-forum/
URL:http://apebi.org.ma/events/cyber-securite-forum/
END:VEVENT
END:VCALENDAR